BEGIN:VCALENDAR
VERSION:2.0
PRODID:-//ChamberMaster//Event Calendar 2.0//EN
METHOD:PUBLISH
X-PUBLISHED-TTL:P3D
REFRESH-INTERVAL:P3D
CALSCALE:GREGORIAN
BEGIN:VEVENT
DTSTART:20180331T190000Z
DTEND:20180331T230000Z
X-MICROSOFT-CDO-ALLDAYEVENT:FALSE
SUMMARY:Easter Carnival
DESCRIPTION:Come join all the fun at Emerald Dolphin Mini Golf's annual Easter Carnival!  A spring time celebration\, fun for all ages!  From Noon to 4pm\, kids play free mini golf when Mom or Dad golfs too.  We will have a free craft & game tables or you may purchase tickets to play Carnival Games to win great prizes\, bounce in the Bounce House\, or participate in the Silly String War!  Hot dogs\, corn dogs\, nachos\, sweet treats\, and beverages also available all day!  Don't forget to bring your basket\, because at 4pm sharp the Easter Bunny will arrive to invite all kids 12 and under to participate in our free Easter Egg Hunt!   There will be something for everyone\, so don't miss it!
X-ALT-DESC;FMTTYPE=text/html:Come join all the fun at Emerald Dolphin Mini Golf&#39\;s annual Easter Carnival!&nbsp\; A spring time celebration\, fun for all ages!&nbsp\; From Noon to 4pm\, kids play free mini golf when Mom or Dad golfs too.&nbsp\; We will have a free craft &amp\; game tables or you may purchase tickets to play Carnival Games to win great prizes\, bounce in the Bounce House\, or participate in the Silly String War!&nbsp\; Hot dogs\, corn dogs\, nachos\, sweet treats\, and beverages also available all day!&nbsp\;&nbsp\;Don&#39\;t forget to bring your basket\, because at 4pm sharp the Easter Bunny will arrive to invite all kids 12 and under to participate in our free Easter Egg Hunt!&nbsp\; &nbsp\;There will be something for everyone\, so don&#39\;t miss it!
LOCATION:Emerald Dolphin Mini Golf\, 1211 South Main Street\, Fort Bragg\, CA. 95437
UID:e.2883.5583
SEQUENCE:3
DTSTAMP:20260423T105129Z
URL:http://mendocinocoast.smartcms.site/events/details/easter-carnival-5583
END:VEVENT

END:VCALENDAR
