BEGIN:VCALENDAR
VERSION:2.0
PRODID:-//ChamberMaster//Event Calendar 2.0//EN
METHOD:PUBLISH
X-PUBLISHED-TTL:P3D
REFRESH-INTERVAL:P3D
CALSCALE:GREGORIAN
BEGIN:VEVENT
DTSTART;VALUE=DATE:20170324
DTEND;VALUE=DATE:20170325
TRANSP:TRANSPARENT
X-MICROSOFT-CDO-ALLDAYEVENT:TRUE
SUMMARY:Easter Carnival
DESCRIPTION:Here comes the Easter Bunny at Emerald Dolphin Mini Golf's Annual Easter Carnival! Â Come join us for Carnival games to win fantastic prizes\, Bounce House\, Easter Games and activities\, Delicious food\, family\, laughter and fun from Noon-4pm. Â And at 4pm sharp\, bring your Easter basket for our spectacular Easter Egg Hunt featuring the Easter Bunny\, his giant carrot helper\, and of course lot of eggs filled with treats and some with very special prizes! Â Kids up to age 16 golf for free with adult ticket all day. Â All ages welcome. There is surely something for everyone! Â (*no entry fee for egg hunt\, childs golf passes\, or easter activities. Â Tickets available for carnival games and bounce house for .50ea)
X-ALT-DESC;FMTTYPE=text/html:<p>Here comes the Easter Bunny at Emerald Dolphin Mini Golf's Annual Easter Carnival! Â Come join us for Carnival games to win fantastic prizes\, Bounce House\, Easter Games and activities\, Delicious food\, family\, laughter and fun from Noon-4pm. Â And at 4pm sharp\, bring your Easter basket for our spectacular Easter Egg Hunt featuring the Easter Bunny\, his giant carrot helper\, and of course lot of eggs filled with treats and some with very special prizes! Â Kids up to age 16 golf for free with adult ticket all day. Â All ages welcome. There is surely something for everyone! Â (*no entry fee for egg hunt\, childs golf passes\, or easter activities. Â Tickets available for carnival games and bounce house for .50ea)</p>
LOCATION:Emerald Dolphin Mini Golf Fort Bragg
UID:e.2883.1168
SEQUENCE:3
DTSTAMP:20260424T075851Z
URL:http://mendocinocoast.smartcms.site/events/details/easter-carnival-03-24-2017-1168
END:VEVENT

END:VCALENDAR
