BEGIN:VCALENDAR
VERSION:2.0
PRODID:-//ChamberMaster//Event Calendar 2.0//EN
METHOD:PUBLISH
X-PUBLISHED-TTL:P3D
REFRESH-INTERVAL:P3D
CALSCALE:GREGORIAN
BEGIN:VEVENT
DTSTART:20180421T180000Z
DTEND:20180421T200000Z
X-MICROSOFT-CDO-ALLDAYEVENT:FALSE
SUMMARY:Earth Day Beach Clean-up
DESCRIPTION:Noyo Harbor Beach is the place to be!  Join the Noyo Center for Marine Science and Surfrider Foundation\, Mendocino Chapter for our Earth Day Beach Clean-up on Saturday\, April 21st.  We will be cleaning Noyo Harbor Beach "Dog Beach"\, located at the end of North Harbor Drive starting at 11:00am Saturday morning.  We will provide\, bags\, collection charts\, buckets and grabbers.  Please bring a water bottle\, coffee mug and appropriate attire.  See you on the beach! We Are Harnessing the Power of People to Fight Ocean Trash Today\, plastic has been found in 62% of all sea birds and in 100% of sea turtle species. A problem as big as plastic in the ocean requires a big response! By participating\, you can make a difference. Our clean up data will be recorded in the Ocean Conservancy's national database of beach clean-up debris through the  Clean Swell  app
X-ALT-DESC;FMTTYPE=text/html:Noyo Harbor Beach is the place to be! &nbsp\;Join the Noyo Center for Marine Science and Surfrider Foundation\, Mendocino Chapter for our Earth Day Beach Clean-up on Saturday\, April 21st. &nbsp\;We will be cleaning Noyo Harbor Beach &quot\;Dog Beach&quot\;\, located at the end of North Harbor Drive starting at 11:00am Saturday morning. &nbsp\;We will provide\, bags\, collection charts\, buckets and grabbers. &nbsp\;Please bring a water bottle\, coffee mug and appropriate attire. &nbsp\;See you on the beach! We Are Harnessing the Power of People to Fight Ocean Trash Today\, plastic has been found in 62% of all sea birds and in 100% of sea turtle species. A problem as big as plastic in the ocean requires a big response! By participating\, you can make a difference. Our clean up data will be recorded in the Ocean Conservancy&#39\;s national database of beach clean-up debris through the&nbsp\;&nbsp\;Clean Swell&trade\; app
LOCATION:We will be cleaning Noyo Harbor Beach "Dog Beach"\, located at the end of North Harbor Drive
UID:e.2883.5641
SEQUENCE:3
DTSTAMP:20260423T091238Z
URL:http://mendocinocoast.smartcms.site/events/details/earth-day-beach-clean-up-5641
END:VEVENT

END:VCALENDAR
