BEGIN:VCALENDAR
VERSION:2.0
PRODID:-//ChamberMaster//Event Calendar 2.0//EN
METHOD:PUBLISH
X-PUBLISHED-TTL:P3D
REFRESH-INTERVAL:P3D
CALSCALE:GREGORIAN
BEGIN:VEVENT
DTSTART:20190926T190000Z
DTEND:20190926T210000Z
X-MICROSOFT-CDO-ALLDAYEVENT:FALSE
SUMMARY:E-Commerce 101: Workshop & Webinar Series
DESCRIPTION:Please join us with Veronika Monell\, owner of JumpStartNOW\, showing you the power of e-commerce. Her superpower is strategizing with business owners. She will share her expertise to help you learn how to develop your online business strategy\, set-up an e-commerce store\, and sell and market your products online in today's fast-paced digital world. The topics covered will include: Focusing your online business idea Identifying your ideal customers Setting-up your e-commerce store Managing your online business Understanding E-commerce best practices. Understanding your store's analytics Considering online distribution Building an e-commerce marketing strategy Webinar Series: In addition to this workshop\, you will also receive access to 6 webinars that dive deeper into the following topics. October 3\, 2019\, 12:00-1:00PM - Creating a Sitemap for your Store and Writing Marketing Copy October 10\, 2019\, 12:00-1:00PM - Analytics and Optimization October 24\, 2019\, 12:00-1:00PM - Best Practices (includes Terms of Use\, etc\, Taxes\, Customers Service) November 7\, 2019\, 12:00-1:00PM - Online marketing for E-Commerce November 21\, 2019\, 12:00-1:00PM - Selling on FB and Instagram December 5\, 2019\, 12:00-1:00PM - How to create an effective Product page and selling on Amazon
X-ALT-DESC;FMTTYPE=text/html:Please join us with Veronika Monell\, owner of JumpStartNOW\, showing you the power of e-commerce. Her superpower is strategizing with business owners. She will share her expertise to help you learn how to develop your online business strategy\, set-up an e-commerce store\, and sell and market your products online in today&rsquo\;s fast-paced digital world. The topics covered will include: Focusing your online business idea Identifying your ideal customers Setting-up your e-commerce store Managing your online business Understanding E-commerce best practices. Understanding your store&rsquo\;s analytics Considering online distribution Building an e-commerce marketing strategy Webinar Series: In addition to this workshop\, you will also receive access to 6 webinars that dive deeper into the following topics. October 3\, 2019\, 12:00-1:00PM - Creating a Sitemap for your Store and Writing Marketing Copy October 10\, 2019\, 12:00-1:00PM - Analytics and Optimization October 24\, 2019\, 12:00-1:00PM - Best Practices (includes Terms of Use\, etc\, Taxes\, Customers Service) November 7\, 2019\, 12:00-1:00PM - Online marketing for E-Commerce November 21\, 2019\, 12:00-1:00PM - Selling on FB and Instagram December 5\, 2019\, 12:00-1:00PM - How to create an effective Product page and selling on Amazon
LOCATION:West Business Development Center\, 345 N Franklin St. Fort Bragg\, CA
UID:e.2883.11987
SEQUENCE:3
DTSTAMP:20260422T060415Z
URL:http://mendocinocoast.smartcms.site/events/details/e-commerce-101-workshop-webinar-series-11987
END:VEVENT

END:VCALENDAR
