BEGIN:VCALENDAR
VERSION:2.0
PRODID:-//ChamberMaster//Event Calendar 2.0//EN
METHOD:PUBLISH
X-PUBLISHED-TTL:P3D
REFRESH-INTERVAL:P3D
CALSCALE:GREGORIAN
BEGIN:VEVENT
DTSTART:20170603T170000Z
DTEND:20170603T180000Z
X-MICROSOFT-CDO-ALLDAYEVENT:FALSE
SUMMARY:Downtown History Walk
DESCRIPTION:Downtown History Walk with local historian\, David Maki.
X-ALT-DESC;FMTTYPE=text/html:<span style="margin: 0px\; font-family: Verdana\, Arial\; font-size: medium\;">Downtown History Walk with&nbsp\;local historian\, David Maki. &nbsp\;</span>
LOCATION:Meet at the Guest House Museum at 343 N. Main St. in Fort Bragg.
UID:e.2883.1209
SEQUENCE:3
DTSTAMP:20260424T024515Z
URL:http://mendocinocoast.smartcms.site/events/details/downtown-history-walk-1209
END:VEVENT

END:VCALENDAR
