BEGIN:VCALENDAR
VERSION:2.0
PRODID:-//ChamberMaster//Event Calendar 2.0//EN
METHOD:PUBLISH
X-PUBLISHED-TTL:P3D
REFRESH-INTERVAL:P3D
CALSCALE:GREGORIAN
BEGIN:VEVENT
DTSTART:20190713T210000Z
DTEND:20190713T230000Z
X-MICROSOFT-CDO-ALLDAYEVENT:FALSE
SUMMARY:Doctor Whodunnit for Teens
DESCRIPTION:Who killed Doctor Who? Teens (ages 12-18) are invited to be sci-fi characters who work on solving this mystery. Costumes are encouraged but not required. Spacy snacks included.
X-ALT-DESC;FMTTYPE=text/html:Who killed Doctor Who? Teens (ages 12-18) are invited to be sci-fi characters who work on solving this mystery. Costumes are encouraged but not required. Spacy snacks included.
LOCATION:Fort Bragg Library 499 E Laurel St. Fort Bragg\, CA 95437
UID:e.2883.11762
SEQUENCE:3
DTSTAMP:20260422T080915Z
URL:http://mendocinocoast.smartcms.site/events/details/doctor-whodunnit-for-teens-11762
END:VEVENT

END:VCALENDAR
