BEGIN:VCALENDAR
VERSION:2.0
PRODID:-//ChamberMaster//Event Calendar 2.0//EN
METHOD:PUBLISH
X-PUBLISHED-TTL:P3D
REFRESH-INTERVAL:P3D
CALSCALE:GREGORIAN
BEGIN:VEVENT
DTSTART:20170201T180000Z
DTEND:20170201T200000Z
X-MICROSOFT-CDO-ALLDAYEVENT:FALSE
SUMMARY:Docent Training 2017
DESCRIPTION:March 15\, 22\, and 29\n10:00am to 12:00pm\nin the Gardens Meeting Room and out in the GardensWanted - Gardens Lovers to Share their EnthusiasmEach year thousands of children and adults visit the Gardens\, spending a few hours or the entire day exploring. The Gardens has something for everyone: well-maintained areas with beautiful displays of perennials\, fuchsias\, and succulents\, and nature trails along the creek to the ocean bluffs. Rhododendrons\, camellias\, and dahlias are also widely popular attractions.If you are enthusiastic about these same features of the Gardens\,Â consider becoming a DOCENT! The Docent Program offers an opportunity for visitors to learn and experience more than what they would on their own. Docents are the public face of our Gardens that guide student and adult groups throughout our 47 acres and impart their knowledge\, excitement\, and enthusiasm. They are integral to enhancing the visitor experience.Docent Duties Include:Leading group or individual tours for visiting adults and/or children.Â Partnering upÂ with another docent to lead a tour is a possibilityAssisting withÂ educational programsSupporting Open Garden Day and collection-related events such as theÂ Rhododendron Show and National Public Gardens Day.We will be holding a spring Docent Training on March 15\, 22\, and 29 in the MCBG Meeting Room from 10AM-12PM.Â  Each session will include classroom instruction and a walk through the Gardens to become familiar with collections\, trails\, and MCBG history.Â  If you have a passion for the Gardens and people\, please consider this rewarding opportunity. If you can join us\, please RSVP toÂ administration_volunteer@gardenbythesea.org.Â We strongly recommend you attend all 3 sessions.
X-ALT-DESC;FMTTYPE=text/html:<h3><span style="font-size:large\;">March 15\, 22\, and 29<br /></span>10:00am to 12:00pm<br />in the Gardens Meeting Room and out in the Gardens</h3><p><span style="font-size:medium\;"><em><strong>Wanted - Gardens Lovers to Share their Enthusiasm</strong></em></span></p><p><span style="font-size:medium\;">Each year thousands of children and adults visit the Gardens\, spending a few hours or the entire day exploring. The Gardens has something for everyone: well-maintained areas with beautiful displays of perennials\, fuchsias\, and succulents\, and nature trails along the creek to the ocean bluffs. Rhododendrons\, camellias\, and dahlias are also widely popular attractions.</span></p><p><span style="font-size:medium\;">If you are enthusiastic about these same features of the Gardens\,Â <em>consider becoming a DOCENT</em>! The Docent Program offers an opportunity for visitors to learn and experience more than what they would on their own. Docents are the public face of our Gardens that guide student and adult groups throughout our 47 acres and impart their knowledge\, excitement\, and enthusiasm. They are integral to enhancing the visitor experience.</span></p><p><span style="font-size:medium\;">Docent Duties Include:</span></p><ul><li><span style="font-size:medium\;">Leading group or individual tours for visiting adults and/or children.Â Partnering upÂ with another docent to lead a tour is a possibility</span></li><li><span style="font-size:medium\;">Assisting withÂ <a href="http://www.gardenbythesea.org/education/">educational programs</a></span></li><li><span style="font-size:medium\;">Supporting Open Garden Day and collection-related events such as theÂ <a href="http://www.gardenbythesea.org/calendar/rhododendron-show-2017/" target="_blank">Rhododendron Show</a> and National Public Gardens Day.</span></li></ul><p><span style="font-size:medium\;">We will be holding a spring Docent Training on March 15\, 22\, and 29 in the MCBG Meeting Room from 10AM-12PM.Â  Each session will include classroom instruction and a walk through the Gardens to become familiar with collections\, trails\, and MCBG history.Â  If you have a passion for the Gardens and people\, please consider this rewarding opportunity. If you can join us\, please RSVP toÂ <a href="mailto:administration_volunteer@gardenbythesea.org" target="_blank">administration_volunteer@gardenbythesea.org</a>.Â <strong><em>We strongly recommend you attend all 3 sessions.</em></strong></span></p>
LOCATION:Mendocino Coast Botanical Gardens Fort Bragg
UID:e.2883.1111
SEQUENCE:3
DTSTAMP:20260424T093353Z
URL:http://mendocinocoast.smartcms.site/events/details/docent-training-2017-02-01-2017-1111
END:VEVENT

END:VCALENDAR
