BEGIN:VCALENDAR
VERSION:2.0
PRODID:-//ChamberMaster//Event Calendar 2.0//EN
METHOD:PUBLISH
X-PUBLISHED-TTL:P3D
REFRESH-INTERVAL:P3D
CALSCALE:GREGORIAN
BEGIN:VEVENT
DTSTART:20170903T230000Z
DTEND:20170904T020000Z
X-MICROSOFT-CDO-ALLDAYEVENT:FALSE
SUMMARY:Dixieland Music Concert
DESCRIPTION:Authentic New Orleans Jazz Concert and Dance \, fundraiser for Gloriana Musical Theatre\, Paul Bunyan Days weekend event
X-ALT-DESC;FMTTYPE=text/html:Authentic New Orleans Jazz Concert and Dance \, fundraiser for Gloriana Musical Theatre\, Paul Bunyan Days weekend event
LOCATION:Eagle's Hall 210 N Corry St at Alder Fort Bragg
UID:e.2883.4397
SEQUENCE:3
DTSTAMP:20260423T215506Z
URL:http://mendocinocoast.smartcms.site/events/details/dixieland-music-concert-4397
END:VEVENT

END:VCALENDAR
