BEGIN:VCALENDAR
VERSION:2.0
PRODID:-//ChamberMaster//Event Calendar 2.0//EN
METHOD:PUBLISH
X-PUBLISHED-TTL:P3D
REFRESH-INTERVAL:P3D
CALSCALE:GREGORIAN
BEGIN:VEVENT
DTSTART:20191019T170000Z
DTEND:20191019T230000Z
X-MICROSOFT-CDO-ALLDAYEVENT:FALSE
SUMMARY:Discover the Coast
DESCRIPTION:Discover the amazing coast just north of Point Arena at this special event. Sponsored by the Bureau of Land Management\, Friends of Point Arena/Stornetta Lands\, Point Arena Lighthouse\, Mendocino College and the California Native Plant Society this event will showcase the flora and fauna of these coastal treasures. Interpretive stations along hiking trails on the Point Arena/Stornetta Lands\, at the Point Arena Lighthouse and the Mendocino College Field Station will educate and enlighten visitors about the treasure that is this part of the Mendocino coast. Docent led walks on geology\, native plants of the coastal prairie and archaeology. Whale\, bird\, seal and Marine Mammal Center experts and food and drink at the Point Arena Lighthouse. Shuttle bus available. Free admission to all locations.
X-ALT-DESC;FMTTYPE=text/html:Discover the amazing coast just north of Point Arena at this special event. Sponsored by the Bureau of Land Management\, Friends of Point Arena/Stornetta Lands\, Point Arena Lighthouse\, Mendocino College and the California Native Plant Society this event will showcase the flora and fauna of these coastal treasures. Interpretive stations along hiking trails on the Point Arena/Stornetta Lands\, at the Point Arena Lighthouse and the Mendocino College Field Station will educate and enlighten visitors about the treasure that is this part of the Mendocino coast. Docent led walks on geology\, native plants of the coastal prairie and archaeology. Whale\, bird\, seal and Marine Mammal Center experts and food and drink at the Point Arena Lighthouse. Shuttle bus available. Free admission to all locations.
LOCATION:Point Arena City Hall (parking and trail head)\, Point Arena/Stornetta Lands (bend 1.6 miles down Lighthouse Road)\, Point Arena Lighthouse 45500 Lighthouse Road
UID:e.2883.12428
SEQUENCE:3
DTSTAMP:20260422T024547Z
URL:http://mendocinocoast.smartcms.site/events/details/discover-the-coast-12428
END:VEVENT

END:VCALENDAR
