BEGIN:VCALENDAR
VERSION:2.0
PRODID:-//ChamberMaster//Event Calendar 2.0//EN
METHOD:PUBLISH
X-PUBLISHED-TTL:P3D
REFRESH-INTERVAL:P3D
CALSCALE:GREGORIAN
BEGIN:VEVENT
DTSTART:20190907T023000Z
DTEND:20190907T043000Z
X-MICROSOFT-CDO-ALLDAYEVENT:FALSE
SUMMARY:Dirty Cello at Yoga Mendocino
DESCRIPTION:From China to Italy\, and all over the U.S.\, Dirty Cello brings the world a high energy and unique spin on blues and bluegrass. Led by vivacious cross-over cellist\, Rebecca Roudman\, Dirty Cello is cello like you've never heard before. From down home blues with a wailing cello to virtuosic stompin' bluegrass\, Dirty Cello is a band that gets your heart thumping and your toes tapping! "Dirty Cellos music is all over the map: funky\, carnival\, romantic\, sexy\, tangled\, electric\, fiercely rhythmic\, and textured\, and only occasionally classical." Lou Fancher\, Oakland Magazine.
X-ALT-DESC;FMTTYPE=text/html:From China to Italy\, and all over the U.S.\, Dirty Cello brings the world a high energy and unique spin on blues and bluegrass. Led by vivacious cross-over cellist\, Rebecca Roudman\, Dirty Cello is cello like you&rsquo\;ve never heard before. From down home blues with a wailing cello to virtuosic stompin&rsquo\; bluegrass\, Dirty Cello is a band that gets your heart thumping and your toes tapping! &quot\;Dirty Cellos music is all over the map: funky\, carnival\, romantic\, sexy\, tangled\, electric\, fiercely rhythmic\, and textured\, and only occasionally classical.&quot\; Lou Fancher\, Oakland Magazine.
LOCATION:Yoga Mendocino 206 Mason St. Ukiah\, CA 95482
UID:e.2883.11922
SEQUENCE:3
DTSTAMP:20260422T043511Z
URL:http://mendocinocoast.smartcms.site/events/details/dirty-cello-at-yoga-mendocino-11922
END:VEVENT

END:VCALENDAR
