BEGIN:VCALENDAR
VERSION:2.0
PRODID:-//ChamberMaster//Event Calendar 2.0//EN
METHOD:PUBLISH
X-PUBLISHED-TTL:P3D
REFRESH-INTERVAL:P3D
CALSCALE:GREGORIAN
BEGIN:VEVENT
DTSTART;VALUE=DATE:20170225
DTEND;VALUE=DATE:20170226
TRANSP:TRANSPARENT
X-MICROSOFT-CDO-ALLDAYEVENT:TRUE
SUMMARY:Dine Out at the MacCallum House
DESCRIPTION:Join coastal theatre lovers on Wednesday\, March 15th at the MacCallum House Inn and Restaurant for the Mendocino Theatre Company's annual "Dine Out at the Mac"!Enjoy and exquisite meal prepared with organic\, sustainable\, and locally-sourced ingrediants. Complement your food with a handcrafted cocktail or a glass of wine from their extensive wine list.Reserve your table TODAY! Â It's a delicious way to support local theatre!The Grey Whale Bar opens at 5 pm\, and dinner is served from 5:30 to 8:00. Reserve online or by phone (707) 937-f0289.
X-ALT-DESC;FMTTYPE=text/html:<p>Join coastal theatre lovers on Wednesday\, March 15th at the MacCallum House Inn and Restaurant for the Mendocino Theatre Company's annual "Dine Out at the Mac"!</p><p>Enjoy and exquisite meal prepared with organic\, sustainable\, and locally-sourced ingrediants. Complement your food with a handcrafted cocktail or a glass of wine from their extensive wine list.</p><p>Reserve your table TODAY! Â <strong>It's a delicious way to support local theatre</strong>!</p><p>The Grey Whale Bar opens at 5 pm\, and dinner is served from 5:30 to 8:00. Reserve online or by phone (707) 937-f0289.</p>
LOCATION:MacCallum House Inn and Restaurant Mendocino
UID:e.2883.1135
SEQUENCE:3
DTSTAMP:20260424T093817Z
URL:http://mendocinocoast.smartcms.site/events/details/dine-out-at-the-maccallum-house-02-25-2017-1135
END:VEVENT

END:VCALENDAR
