BEGIN:VCALENDAR
VERSION:2.0
PRODID:-//ChamberMaster//Event Calendar 2.0//EN
METHOD:PUBLISH
X-PUBLISHED-TTL:P3D
REFRESH-INTERVAL:P3D
CALSCALE:GREGORIAN
BEGIN:VEVENT
DTSTART:20181208T220000Z
DTEND:20181208T230000Z
X-MICROSOFT-CDO-ALLDAYEVENT:FALSE
SUMMARY:Digging Dinosaurs: Fieldwork in the Badlands with Rob Sula
DESCRIPTION:For over 20 years Rob has been doing pale-ontological fieldwork in the Cretaceous exposures of the Dakotas\, Montana\, Wyoming and Nebraska. Join him as he discusses the methods and techniques that he uses to preserve\, excavate and safely remove large vertebrate fossil specimens. Along the way\, Rob will share the hardships and challenges\, along with the joys and unexpected surprises of fieldwork.
X-ALT-DESC;FMTTYPE=text/html:For over 20 years Rob has been doing pale-ontological fieldwork in the Cretaceous exposures of the Dakotas\, Montana\, Wyoming and Nebraska. Join him as he discusses the methods and techniques that he uses to preserve\, excavate and safely remove large vertebrate fossil specimens. Along the way\, Rob will share the hardships and challenges\, along with the joys and unexpected surprises of fieldwork.
LOCATION:Fort Bragg Library 499 E Laurel St Fort Bragg\, CA 95437
UID:e.2883.10423
SEQUENCE:3
DTSTAMP:20260422T192859Z
URL:http://mendocinocoast.smartcms.site/events/details/digging-dinosaurs-fieldwork-in-the-badlands-with-rob-sula-10423
END:VEVENT

END:VCALENDAR
