BEGIN:VCALENDAR
VERSION:2.0
PRODID:-//ChamberMaster//Event Calendar 2.0//EN
METHOD:PUBLISH
X-PUBLISHED-TTL:P3D
REFRESH-INTERVAL:P3D
CALSCALE:GREGORIAN
BEGIN:VEVENT
DTSTART:20190720T230000Z
DTEND:20190721T050000Z
X-MICROSOFT-CDO-ALLDAYEVENT:FALSE
SUMMARY:DeeJay Explosion
DESCRIPTION:Please attend "DeeJay Explosion" on Saturday\, July 20th\, from 4:00 PM to 10:00 PM at the Fort Bragg - Inglenook Community Center located at 26500 N. HWY 1\, six miles north of Fort Bragg near Inglenook. This music and dance event is the second in a series to raise much needed funds for re-roofing the building. It will feature the finest electronic cacophony of the professional DJs\, "Sound Check Kids"\, Mike Stevens of "Sonic Attack"\, "Roots E" from "Guerrilla Hi-Fi"\, "Heavyweight Sound"\, and "Aline of Alma Latina". Entrance is $10.00 at the door. Food\, coffee\, tea\, milk\, soda\, bottled water\, beer\, wine\, and some vinyl records & CDs will all be sold separately at various prices. This is a great event for kids and teenagers. However\, children under 13 should be accompanied by an adult.
X-ALT-DESC;FMTTYPE=text/html:Please attend &ldquo\;DeeJay Explosion&rdquo\; on Saturday\, July 20th\, from 4:00 PM to 10:00 PM at the Fort Bragg - Inglenook Community Center located at 26500 N. HWY 1\, six miles north of Fort Bragg near Inglenook. This music and dance event is the second in a series to raise much needed funds for re-roofing the building. It will feature the finest electronic cacophony of the professional DJs\, &ldquo\;Sound Check Kids&rdquo\;\, Mike Stevens of &ldquo\;Sonic Attack&rdquo\;\, &ldquo\;Roots E&rdquo\; from &ldquo\;Guerrilla Hi-Fi&quot\;\, &ldquo\;Heavyweight Sound&rdquo\;\, and &ldquo\;Aline of Alma Latina&rdquo\;. Entrance is $10.00 at the door. Food\, coffee\, tea\, milk\, soda\, bottled water\, beer\, wine\, and some vinyl records &amp\; CDs will all be sold separately at various prices. This is a great event for kids and teenagers. However\, children under 13 should be accompanied by an adult.
LOCATION:26500 N. HWY 1 Fort Bragg\, CA six miles north of Fort Bragg
UID:e.2883.11844
SEQUENCE:3
DTSTAMP:20260422T075842Z
URL:http://mendocinocoast.smartcms.site/events/details/deejay-explosion-11844
END:VEVENT

END:VCALENDAR
