BEGIN:VCALENDAR
VERSION:2.0
PRODID:-//ChamberMaster//Event Calendar 2.0//EN
METHOD:PUBLISH
X-PUBLISHED-TTL:P3D
REFRESH-INTERVAL:P3D
CALSCALE:GREGORIAN
BEGIN:VEVENT
DTSTART:20191018T000000Z
DTEND:20191018T013000Z
X-MICROSOFT-CDO-ALLDAYEVENT:FALSE
SUMMARY:DeCarli Law
DESCRIPTION:Meet & Mingle Hosted by DeCarli Law 45100 Main Street\, Mendocino 937-2701 Thursday\, October 17 5:00   6:30
X-ALT-DESC;FMTTYPE=text/html:Meet &amp\; Mingle Hosted by DeCarli Law 45100 Main Street\, Mendocino 937-2701 Thursday\, October 17 5:00 &ndash\; 6:30
LOCATION:DeCarli Law 45100 Main St.\, Mendocino Corner of Main and Kasten\, Upstairs
UID:e.2883.12437
SEQUENCE:3
DTSTAMP:20260422T024622Z
URL:http://mendocinocoast.smartcms.site/events/details/decarli-law-12437
END:VEVENT

END:VCALENDAR
