BEGIN:VCALENDAR
VERSION:2.0
PRODID:-//ChamberMaster//Event Calendar 2.0//EN
METHOD:PUBLISH
X-PUBLISHED-TTL:P3D
REFRESH-INTERVAL:P3D
CALSCALE:GREGORIAN
BEGIN:VEVENT
DTSTART:20191005T200000Z
DTEND:20191005T230000Z
X-MICROSOFT-CDO-ALLDAYEVENT:FALSE
SUMMARY:Day of the Dead memory box workshop at Interior
DESCRIPTION:Create a memory box for a loved one who has passed. Bring a photo or small memento\; everything else is provided. \n\nEvent held at Interior\, 224 E. Redwood\, Oct. 5\, 1-4:00.\n\nSecond workshop on Oct. 9\, 4-7:00.
X-ALT-DESC;FMTTYPE=text/html:Create a memory box for a loved one who has passed. Bring a photo or small memento\; everything else is provided.&nbsp\;<br />\nEvent held at Interior\, 224 E. Redwood\, Oct. 5\, 1-4:00.<br />\nSecond workshop on Oct. 9\, 4-7:00.
LOCATION:224 E. Redwood Ave.
UID:e.2883.11980
SEQUENCE:3
DTSTAMP:20260422T024636Z
URL:http://mendocinocoast.smartcms.site/events/details/day-of-the-dead-memory-box-workshop-at-interior-11980
END:VEVENT

END:VCALENDAR
