BEGIN:VCALENDAR
VERSION:2.0
PRODID:-//ChamberMaster//Event Calendar 2.0//EN
METHOD:PUBLISH
X-PUBLISHED-TTL:P3D
REFRESH-INTERVAL:P3D
CALSCALE:GREGORIAN
BEGIN:VEVENT
DTSTART:20171007T000000Z
DTEND:20171007T020000Z
X-MICROSOFT-CDO-ALLDAYEVENT:FALSE
SUMMARY:Day of the Dead Memory Box Workshop
DESCRIPTION:Interior is pleased to partner with Friends of Hospice to host two workshops to create memory boxes for the Day of the Dead. The workshops will be held on: Friday October 6\, 5-7:00 p.m.and Saturday October 21\, 1-3:00 p.m. at Interior\, 224 E. Redwood Ave. Bring a ruler\, scissors and any personal items (pictures\, trinkets) you might want to add. Everything else will be provided. $5 donation requested. Note: Since a hot glue gun will be available\, this workshop is unsuitable for children under the age of 10. This year's Day of the Dead altar hall will be in the library multipurpose room from November 1-3. For those who would like to display their memory box\, we will have a shelf unit designed for that purpose. The hall will have someone from Friends of Hospice in attendance all three days the hall is open.
X-ALT-DESC;FMTTYPE=text/html:Interior is pleased to partner with Friends of Hospice to host two workshops to create memory boxes for the Day of the Dead. The workshops will be held on: Friday October 6\, 5-7:00 p.m.and Saturday October 21\, 1-3:00 p.m. at Interior\, 224 E. Redwood Ave. Bring a ruler\, scissors and any personal items (pictures\, trinkets) you might want to add. Everything else will be provided. $5 donation requested. Note: Since a hot glue gun will be available\, this workshop is unsuitable for children under the age of 10. This year&rsquo\;s Day of the Dead altar hall will be in the library multipurpose room from November 1-3. For those who would like to display their memory box\, we will have a shelf unit designed for that purpose. The hall will have someone from Friends of Hospice in attendance all three days the hall is open.
LOCATION:Interior\, 224 E. Redwood Ave\, Fort Bragg
UID:e.2883.4423
SEQUENCE:3
DTSTAMP:20260423T201847Z
URL:http://mendocinocoast.smartcms.site/events/details/day-of-the-dead-memory-box-workshop-4423
END:VEVENT

END:VCALENDAR
