BEGIN:VCALENDAR
VERSION:2.0
PRODID:-//ChamberMaster//Event Calendar 2.0//EN
METHOD:PUBLISH
X-PUBLISHED-TTL:P3D
REFRESH-INTERVAL:P3D
CALSCALE:GREGORIAN
BEGIN:VEVENT
DTSTART:20191009T230000Z
DTEND:20191010T020000Z
X-MICROSOFT-CDO-ALLDAYEVENT:FALSE
SUMMARY:Day of the Dead memory box workshop
DESCRIPTION:Make a memory box to honor a loved one who has passed.  Bring a photo or small memento\; everything else is supplied. Event is held at Interior\, 224 E. Redwood Ave. Completed memory boxes can be placed in the Altar Hall at the Fort Bragg Library October 30-November 1 if desired.
X-ALT-DESC;FMTTYPE=text/html:Make a memory box to honor a loved one who has passed. &nbsp\;Bring a photo or small memento\; everything else is supplied. Event is held at Interior\, 224 E. Redwood Ave. Completed memory boxes can be placed in the Altar Hall at the Fort Bragg Library October 30-November 1 if desired.
LOCATION:Interior 224 E. Redwood
UID:e.2883.11981
SEQUENCE:3
DTSTAMP:20260422T025418Z
URL:http://mendocinocoast.smartcms.site/events/details/day-of-the-dead-memory-box-workshop-10-09-2019-11981
END:VEVENT

END:VCALENDAR
