BEGIN:VCALENDAR
VERSION:2.0
PRODID:-//ChamberMaster//Event Calendar 2.0//EN
METHOD:PUBLISH
X-PUBLISHED-TTL:P3D
REFRESH-INTERVAL:P3D
CALSCALE:GREGORIAN
BEGIN:VEVENT
DTSTART;VALUE=DATE:20171001
DTEND;VALUE=DATE:20171104
TRANSP:TRANSPARENT
X-MICROSOFT-CDO-ALLDAYEVENT:TRUE
SUMMARY:DAY OF THE DEAD ALTAR WALK
DESCRIPTION:FRIENDS OF HOSPICE SPONSORED EVENT\, 24 BUSINESSES HAVE PLACED ALTARS IN THEIR STORES TO CELEBRATE DAY OF THE DEAD.
X-ALT-DESC;FMTTYPE=text/html:FRIENDS OF HOSPICE SPONSORED EVENT\, 24 BUSINESSES HAVE PLACED ALTARS IN THEIR STORES TO CELEBRATE DAY OF THE DEAD.
LOCATION:24 BUSINESSES IN THE DOWNTOWN AREA.
UID:e.2883.4446
SEQUENCE:3
DTSTAMP:20260423T191355Z
URL:http://mendocinocoast.smartcms.site/events/details/day-of-the-dead-altar-walk-4446
END:VEVENT

END:VCALENDAR
