BEGIN:VCALENDAR
VERSION:2.0
PRODID:-//ChamberMaster//Event Calendar 2.0//EN
METHOD:PUBLISH
X-PUBLISHED-TTL:P3D
REFRESH-INTERVAL:P3D
CALSCALE:GREGORIAN
BEGIN:VEVENT
DTSTART;VALUE=DATE:20191001
DTEND;VALUE=DATE:20191103
TRANSP:TRANSPARENT
X-MICROSOFT-CDO-ALLDAYEVENT:TRUE
SUMMARY:Day of the Dead altar walk
DESCRIPTION:Take a stroll thru local businesses and enjoy the Day of the Dead altars.  Each business will have maps showing locations of all the participants.  Sponsored by Friends of Health (formerly Friends of Hospice).
X-ALT-DESC;FMTTYPE=text/html:Take a stroll thru local businesses and enjoy the Day of the Dead altars. &nbsp\;Each business will have maps showing locations of all the participants. &nbsp\;Sponsored by Friends of Health (formerly Friends of Hospice).
LOCATION:Local Fort Bragg businesses
UID:e.2883.11978
SEQUENCE:3
DTSTAMP:20260422T011725Z
URL:http://mendocinocoast.smartcms.site/events/details/day-of-the-dead-altar-walk-10-01-2019-11978
END:VEVENT

END:VCALENDAR
