BEGIN:VCALENDAR
VERSION:2.0
PRODID:-//ChamberMaster//Event Calendar 2.0//EN
METHOD:PUBLISH
X-PUBLISHED-TTL:P3D
REFRESH-INTERVAL:P3D
CALSCALE:GREGORIAN
BEGIN:VEVENT
DTSTART;VALUE=DATE:20181001
DTEND;VALUE=DATE:20181103
TRANSP:TRANSPARENT
X-MICROSOFT-CDO-ALLDAYEVENT:TRUE
SUMMARY:Day of the Dead Altar Walk
DESCRIPTION:Visit participating Fort Bragg businesses October 1-November 2 during business hours and look for their Day of the Dead altar. Maps are available wherever there is an altar AND at the Chamber office.
X-ALT-DESC;FMTTYPE=text/html:Visit participating Fort Bragg businesses October 1-November 2 during business hours and look for their Day of the Dead altar. Maps are available wherever there is an altar AND at the Chamber office.&nbsp\;
LOCATION:Participating Fort Bragg businesses.
UID:e.2883.9356
SEQUENCE:3
DTSTAMP:20260422T210820Z
URL:http://mendocinocoast.smartcms.site/events/details/day-of-the-dead-altar-walk-10-01-2018-9356
END:VEVENT

END:VCALENDAR
