BEGIN:VCALENDAR
VERSION:2.0
PRODID:-//ChamberMaster//Event Calendar 2.0//EN
METHOD:PUBLISH
X-PUBLISHED-TTL:P3D
REFRESH-INTERVAL:P3D
CALSCALE:GREGORIAN
BEGIN:VEVENT
DTSTART;VALUE=DATE:20191030
DTEND;VALUE=DATE:20191102
TRANSP:TRANSPARENT
X-MICROSOFT-CDO-ALLDAYEVENT:TRUE
SUMMARY:Day of the Dead altar hall
DESCRIPTION:The Altar Hall at the Fort Bragg Library multipurpose room\, a display of personal altars\, is a "must-see" event. Colorful\, joyful\, reverent\, it is a way to honor and remember loved ones who have passed. Come prepared to spend some time enjoying the displays and perhaps sitting with us to share stories of your OWN loved ones.  If you would like to participate with an altar of your own please contact ginkremen@yahoo.com for more information.
X-ALT-DESC;FMTTYPE=text/html:The Altar Hall at the Fort Bragg Library multipurpose room\, a display of personal altars\, is a &quot\;must-see&quot\; event. Colorful\, joyful\, reverent\, it is a way to honor and remember loved ones who have passed. Come prepared to spend some time enjoying the displays and perhaps sitting with us to share stories of your OWN loved ones. &nbsp\;If you would like to participate with an altar of your own please contact ginkremen@yahoo.com for more information.&nbsp\;
LOCATION:Fort Bragg Library multipurpose room
UID:e.2883.11979
SEQUENCE:3
DTSTAMP:20260422T011615Z
URL:http://mendocinocoast.smartcms.site/events/details/day-of-the-dead-altar-hall-10-30-2019-11979
END:VEVENT

END:VCALENDAR
