BEGIN:VCALENDAR
VERSION:2.0
PRODID:-//ChamberMaster//Event Calendar 2.0//EN
METHOD:PUBLISH
X-PUBLISHED-TTL:P3D
REFRESH-INTERVAL:P3D
CALSCALE:GREGORIAN
BEGIN:VEVENT
DTSTART:20190713T190000Z
DTEND:20190713T220000Z
X-MICROSOFT-CDO-ALLDAYEVENT:FALSE
SUMMARY:Day in the Park
DESCRIPTION:The annual Day in the Park. Interactive booths\, free food\, talent show and raffle prizes.
X-ALT-DESC;FMTTYPE=text/html:The annual Day in the Park. Interactive booths\, free food\, talent show and raffle prizes.
LOCATION:Harold O. Bainbridge Park\, Fort Bragg
UID:e.2883.11768
SEQUENCE:3
DTSTAMP:20260422T080804Z
URL:http://mendocinocoast.smartcms.site/events/details/day-in-the-park-11768
END:VEVENT

END:VCALENDAR
