BEGIN:VCALENDAR
VERSION:2.0
PRODID:-//ChamberMaster//Event Calendar 2.0//EN
METHOD:PUBLISH
X-PUBLISHED-TTL:P3D
REFRESH-INTERVAL:P3D
CALSCALE:GREGORIAN
BEGIN:VEVENT
DTSTART:20170127T200000Z
DTEND:20170128T010000Z
X-MICROSOFT-CDO-ALLDAYEVENT:FALSE
SUMMARY:Daniel Parker Exhibition
DESCRIPTION:Longtime Mendocino Coast artist Daniel Parker will show his paintings in Mendocino Art Centerâ€™s Gallery Ten. Featured will be a mixture of Parkerâ€™s large scale portrait\, landscape and Mexico-influenced oil paintings.Â more information
X-ALT-DESC;FMTTYPE=text/html:<p>Longtime Mendocino Coast artist Daniel Parker will show his paintings in Mendocino Art Centerâ€™s Gallery Ten. Featured will be a mixture of Parkerâ€™s large scale portrait\, landscape and Mexico-influenced oil paintings.</p><p>Â </p><p><a href="http://www.MendocinoArtCenter.org"><strong>more information</strong></a></p>
LOCATION:Mendocino Art Center
UID:e.2883.1108
SEQUENCE:3
DTSTAMP:20260424T110037Z
URL:http://mendocinocoast.smartcms.site/events/details/daniel-parker-exhibition-01-27-2017-1108
END:VEVENT

END:VCALENDAR
