BEGIN:VCALENDAR
VERSION:2.0
PRODID:-//ChamberMaster//Event Calendar 2.0//EN
METHOD:PUBLISH
X-PUBLISHED-TTL:P3D
REFRESH-INTERVAL:P3D
CALSCALE:GREGORIAN
BEGIN:VEVENT
DTSTART:20170809T170000Z
DTEND:20170810T000000Z
X-MICROSOFT-CDO-ALLDAYEVENT:FALSE
SUMMARY:Cynthia Schildhauer: For Love (and Birds)
DESCRIPTION:Cynthia Schildhauer's exhibit\, "For Love (and Birds)" features her colorful\, mulitilayered surface paintings. Cynthia sees the birds in her paintings as messengers for love. "To me\, they represent ascension\, flight\, and freedom\," says Cynthia. "They are social\, they are committed parents\, and they are colorful. Birds can sing and dance\, they fight and some cry out loud. They play games and they steal things. Birds have compelling names: the Mourning Dove\, the Laughing Gull\, or the Lark. To me\, they captivate and demand a closer look\, a quality I know is also true about love."\n\n \n\nFree Second Saturday Artists Reception: August 12\, 5pm-8pm
X-ALT-DESC;FMTTYPE=text/html:<span style="color:black"><span style="font-family:helvetica">Cynthia Schildhauer&rsquo\;s exhibit\, &ldquo\;For Love (and Birds)&rdquo\; features her colorful\, mulitilayered surface paintings. Cynthia sees the birds in her paintings as messengers for love. &ldquo\;To me\, they represent ascension\, flight\, and freedom\,&rdquo\; says Cynthia. &ldquo\;They are social\, they are committed parents\, and they are colorful. Birds can sing and dance\, </span></span><span style="color:black"><span style="font-family:helvetica">they fight and some cry out loud. They play games and they steal things. Birds have compelling names: the Mourning Dove\, the Laughing Gull\, or the Lark. To me\, they captivate and demand a closer look\, a quality I know is also true about love.&rdquo\;</span></span><br />\n&nbsp\;<br />\n<span style="font-family:helvetica">Free Second Saturday Artists Reception: August 12\, 5pm-8pm</span>
LOCATION:Mendocino Art Center 45200 Little Lake Street\, Mendocino
UID:e.2883.3746
SEQUENCE:3
DTSTAMP:20260423T232804Z
URL:http://mendocinocoast.smartcms.site/events/details/cynthia-schildhauer-for-love-and-birds-08-09-2017-3746
END:VEVENT

END:VCALENDAR
