BEGIN:VCALENDAR
VERSION:2.0
PRODID:-//ChamberMaster//Event Calendar 2.0//EN
METHOD:PUBLISH
X-PUBLISHED-TTL:P3D
REFRESH-INTERVAL:P3D
CALSCALE:GREGORIAN
BEGIN:VEVENT
DTSTART:20190716T010000Z
DTEND:20190716T030000Z
X-MICROSOFT-CDO-ALLDAYEVENT:FALSE
SUMMARY:Cultivating Difference Makers: A Community Approach
DESCRIPTION:Through enhanced education\, understanding and specialized skills overview\, this presentation empowers individuals to effectively prevent or interrupt sexual aggression and domestic violence\, and/or any behaviors that fall on the continuum of harm. Without disruption\, social and cultural norms can "support" acts of harm\, shielding the perpetrator from account. This forum will help you approach and understand the actions of bystanders\, perpetrators and victims through a trauma-informed lens. Together we can shift this climate\, engaging and investing in community resilience. The training will be lead by Eric Barreras\, CEO and Founder of Difference Makers\, LLC-- an organization that empowers individuals to effectively prevent or interrupt sexual assault\, domestic violence and/or any behaviors that fall on the continuum of harm leading up to those acts. Barreras is trained in the Forensic Experiential Trauma Interview (FETI). This is a FREE forum and discussion. Please register by Sunday July 14th at https://ebpublicforum.eventbrite.com
X-ALT-DESC;FMTTYPE=text/html:Through enhanced education\, understanding and specialized skills overview\, this presentation empowers individuals to effectively prevent or interrupt sexual aggression and domestic violence\, and/or any behaviors that fall on the continuum of harm. Without disruption\, social and cultural norms can &quot\;support&quot\; acts of harm\, shielding the perpetrator from account. This forum will help you approach and understand the actions of bystanders\, perpetrators and victims through a trauma-informed lens. Together we can shift this climate\, engaging and investing in community resilience. The training will be lead by Eric Barreras\, CEO and Founder of Difference Makers\, LLC-- an organization that empowers individuals to effectively prevent or interrupt sexual assault\, domestic violence and/or any behaviors that fall on the continuum of harm leading up to those acts. Barreras is trained in the Forensic Experiential Trauma Interview (FETI). This is a FREE forum and discussion. Please register by Sunday July 14th at https://ebpublicforum.eventbrite.com
LOCATION:Fort Bragg Town Hall 363 North Main Street
UID:e.2883.11759
SEQUENCE:3
DTSTAMP:20260422T075931Z
URL:http://mendocinocoast.smartcms.site/events/details/cultivating-difference-makers-a-community-approach-11759
END:VEVENT

END:VCALENDAR
