BEGIN:VCALENDAR
VERSION:2.0
PRODID:-//ChamberMaster//Event Calendar 2.0//EN
METHOD:PUBLISH
X-PUBLISHED-TTL:P3D
REFRESH-INTERVAL:P3D
CALSCALE:GREGORIAN
BEGIN:VEVENT
DTSTART:20181208T180000Z
DTEND:20181209T000000Z
X-MICROSOFT-CDO-ALLDAYEVENT:FALSE
SUMMARY:Craft Fair @ Preston Hall Mendocino
DESCRIPTION:Mendocino Study Club & Rainbow School combine for CRAFT FAIR raffle & silent auction food\, fun & Santa Visit 11-12 noon Study Club proceeds benefit scholarship & Rainbow School proceeds benefit preschool playground upgrade
X-ALT-DESC;FMTTYPE=text/html:Mendocino Study Club &amp\; Rainbow School combine for CRAFT FAIR raffle &amp\; silent auction food\, fun &amp\; Santa Visit 11-12 noon Study Club proceeds benefit scholarship &amp\; Rainbow School proceeds benefit preschool playground upgrade
LOCATION:Preston Hall 44831 Main St\, Mendocino
UID:e.2883.10356
SEQUENCE:3
DTSTAMP:20260422T192959Z
URL:http://mendocinocoast.smartcms.site/events/details/craft-fair-preston-hall-mendocino-10356
END:VEVENT

END:VCALENDAR
