BEGIN:VCALENDAR
VERSION:2.0
PRODID:-//ChamberMaster//Event Calendar 2.0//EN
METHOD:PUBLISH
X-PUBLISHED-TTL:P3D
REFRESH-INTERVAL:P3D
CALSCALE:GREGORIAN
BEGIN:VEVENT
DTSTART:20171124T180000Z
DTEND:20171126T010000Z
X-MICROSOFT-CDO-ALLDAYEVENT:FALSE
SUMMARY:Craft Fair
DESCRIPTION:Craft Fair Thanksgiving Weekend Friday\, November 24th & Saturday\, November 25th
X-ALT-DESC;FMTTYPE=text/html:Craft Fair Thanksgiving Weekend Friday\, November 24th &amp\; Saturday\, November 25th
LOCATION:Located in the Old Rec Center\, corner of Laurel and Franklin Street across from Sears
UID:e.2883.5303
SEQUENCE:3
DTSTAMP:20260423T191028Z
URL:http://mendocinocoast.smartcms.site/events/details/craft-fair-5303
END:VEVENT

END:VCALENDAR
