BEGIN:VCALENDAR
VERSION:2.0
PRODID:-//ChamberMaster//Event Calendar 2.0//EN
METHOD:PUBLISH
X-PUBLISHED-TTL:P3D
REFRESH-INTERVAL:P3D
CALSCALE:GREGORIAN
BEGIN:VEVENT
DTSTART:20161111T013000Z
DTEND:20161111T000000Z
X-MICROSOFT-CDO-ALLDAYEVENT:FALSE
SUMMARY:Crab\, Wine & Beer Days 2017
DESCRIPTION:Mendocino Coast Clinics presents: Crab\, Wine & Beer Days 2017!!Listed as one of top 10 seafood and wine events by Coastal Living Magazine!Â Friday\, January 27\, 2017: Cioppino Dinner with all the fixings at Pentecost Hall (822 Stewart St. Fort Bragg)There will be 3 seatings\, at 4:30pm\, 6pm\, and 8pm.Â Saturday\, January 28\, 2017: Crab Cake Cook-Off & Wine tasting competition in the big white tent at the corner of Main & Spruce St in Fort Bragg. From noon-3pm.Â For more info\, visit mccinc.org call (707) 961-3463\, or e-mail events@mccinc.org
X-ALT-DESC;FMTTYPE=text/html:<p>Mendocino Coast Clinics presents: Crab\, Wine &amp\; Beer Days 2017!!</p><p>Listed as one of top 10 seafood and wine events by Coastal Living Magazine!</p><p>Â </p><p>Friday\, January 27\, 2017: Cioppino Dinner with all the fixings at Pentecost Hall (822 Stewart St. Fort Bragg)</p><p>There will be 3 seatings\, at 4:30pm\, 6pm\, and 8pm.</p><p>Â </p><p>Saturday\, January 28\, 2017: Crab Cake Cook-Off &amp\; Wine tasting competition in the big white tent at the corner of Main &amp\; Spruce St in Fort Bragg. From noon-3pm.</p><p>Â </p><p>For more info\, visit mccinc.org call (707) 961-3463\, or e-mail events@mccinc.org</p>
LOCATION:Pentecost Hall & the big white tent Fort Bragg
UID:e.2883.1062
SEQUENCE:3
DTSTAMP:20260424T141638Z
URL:http://mendocinocoast.smartcms.site/events/details/crab-wine-beer-days-2017-11-10-2016-1062
END:VEVENT

END:VCALENDAR
