BEGIN:VCALENDAR
VERSION:2.0
PRODID:-//ChamberMaster//Event Calendar 2.0//EN
METHOD:PUBLISH
X-PUBLISHED-TTL:P3D
REFRESH-INTERVAL:P3D
CALSCALE:GREGORIAN
BEGIN:VEVENT
DTSTART:20180127T200000Z
DTEND:20180127T230000Z
X-MICROSOFT-CDO-ALLDAYEVENT:FALSE
SUMMARY:Crab Cake Cook-Off & Wine Tasting Competition ~ A Benefit for Mendocino Coast Clinics!
DESCRIPTION:Savor crab cakes! Sip the very best of Mendocino wines! Mendocino County chefs prepare thousands of cakes for your sampling pleasure. Professional Judges & People's Choice Awards ~ Vote your favorites! Taste Made in Mendocino microbrews\, fine foods\, desserts & coffee. Raffle! Silent Auction! Wine Auction! LIVE Auction! Fund Pediatric Medical Equipment! Online sales now open! www.mccinc.org\; events@mccinc.org\; 707.961.3463
X-ALT-DESC;FMTTYPE=text/html:Savor crab cakes! Sip the very best of Mendocino wines! Mendocino County chefs prepare thousands of cakes for your sampling pleasure. Professional Judges &amp\; People&rsquo\;s Choice Awards ~ Vote your favorites! Taste Made in Mendocino microbrews\, fine foods\, desserts &amp\; coffee. Raffle! Silent Auction! Wine Auction! LIVE Auction! Fund Pediatric Medical Equipment! Online sales now open! www.mccinc.org\; events@mccinc.org\; 707.961.3463
LOCATION:In the Big White Tent at the corner of Main & Spruce\, Fort Bragg
UID:e.2883.5294
SEQUENCE:3
DTSTAMP:20260423T141154Z
URL:http://mendocinocoast.smartcms.site/events/details/crab-cake-cook-off-wine-tasting-competition-a-benefit-for-mendocino-coast-clinics-5294
END:VEVENT

END:VCALENDAR
