BEGIN:VCALENDAR
VERSION:2.0
PRODID:-//ChamberMaster//Event Calendar 2.0//EN
METHOD:PUBLISH
X-PUBLISHED-TTL:P3D
REFRESH-INTERVAL:P3D
CALSCALE:GREGORIAN
BEGIN:VEVENT
DTSTART;VALUE=DATE:20170406
DTEND;VALUE=DATE:20170407
TRANSP:TRANSPARENT
X-MICROSOFT-CDO-ALLDAYEVENT:TRUE
SUMMARY:Cowboy Party
DESCRIPTION:We're back in the saddle again....it's the Cowboy Party!Saturday\, May 6\, 2017 from 5pmat Hughes Llama Ranch - 3801 Highway 1 - AlbionGrab your fella or special lady for a boot stompin' good time at this annual FUNDRAISING event!Help any or all of the following organizations: Albion Little River Fire Protection District Mendocino Coast Hospital Foundation Mendocino Music Festival - Symphony of the RedwoodsThere will be DANCIN'! There will be BBQ! There will be DRINKS! There will be a RAFFLE! There will BE a GOOD TIME had by ALL!We encourage you to bring an appetizer or dessert! Let us know which when you R.S.V.P.! Please R.S.V.P. to Alex & the Party Posse at cowboyparty@mcn.org or (707) 964-0898Minumum suggested donation for entry is $50/person to the organization(s) of your choice! Y'all feel free to give more!This event is graciously presented by Kathy & John Hughes\, and the benefiting organizations.
X-ALT-DESC;FMTTYPE=text/html:<p>We're back in the saddle again....it's the <span style="color: #ff0000\;">Cowboy Party</span>!</p><p><span style="color: #ff0000\;">Saturday\, May 6\, 2017 from 5pm</span></p><p>at Hughes Llama Ranch - 3801 Highway 1 - Albion</p><p>Grab your fella or special lady for a boot stompin' good time at this annual FUNDRAISING event!</p><p>Help any or all of the following organizations:</p><p><span style="white-space: pre\;"> </span><span style="color: #339966\;">Albion Little River Fire Protection District</span></p><p><span style="color: #339966\;"><span style="white-space: pre\;"> </span>Mendocino Coast Hospital Foundation</span></p><p><span style="color: #339966\;"><span style="white-space: pre\;"> </span>Mendocino Music Festival - Symphony of the Redwoods</span></p><p>There will be <span style="color: #ff0000\;">DANCIN'</span>! There will be <span style="color: #ff0000\;">BBQ</span>! There will be <span style="color: #ff0000\;">DRINKS</span>! There will be a <span style="color: #ff0000\;">RAFFLE</span>! There will <span style="color: #ff0000\;">BE</span> a <span style="color: #ff0000\;">GOOD TIME</span> had by <span style="color: #ff0000\;">ALL</span>!</p><p>We encourage you to bring an appetizer or dessert! Let us know which when you R.S.V.P.! Please R.S.V.P. to Alex &amp\; the Party Posse at cowboyparty@mcn.org or (707) 964-0898</p><p>Minumum suggested donation for entry is $50/person to the organization(s) of your choice! Y'all feel free to give more!</p><p>This event is graciously presented by Kathy &amp\; John Hughes\, and the benefiting organizations.</p>
LOCATION:Hughes Llama Ranch Albion
UID:e.2883.1181
SEQUENCE:3
DTSTAMP:20260424T061006Z
URL:http://mendocinocoast.smartcms.site/events/details/cowboy-party-04-06-2017-1181
END:VEVENT

END:VCALENDAR
