BEGIN:VCALENDAR
VERSION:2.0
PRODID:-//ChamberMaster//Event Calendar 2.0//EN
METHOD:PUBLISH
X-PUBLISHED-TTL:P3D
REFRESH-INTERVAL:P3D
CALSCALE:GREGORIAN
BEGIN:VEVENT
DTSTART:20160603T190000Z
DTEND:20160604T020000Z
X-MICROSOFT-CDO-ALLDAYEVENT:FALSE
SUMMARY:County of Mendocino Job Fair
DESCRIPTION:What is a Job Fair?Job Fairs are a great first step in the hiring process and will provide attendees with the opportunity to apply for current job openings\, explore the diverse selection of careers within the County of Mendocino and interact with County representatives from all departments and offices.Â  The fair will include breakout sessions highlighting individual county departments/offices\, hands on assistance about the web-based application process and opportunities to apply online for current openings.Â  Attendees can also take advantage of on-site community education information\, training partners\, information on becoming an intern or being a member of one of the boards and commissions.Â  You will be provided with information concerning the next steps of the hiring process when you attend one of the various workshops available.Â  We hope to see you there!Â What to Expect:Free admission and parkingOnsite Food VendorsApply for a job opening onsite at the FairAttend a live workshop tutorial teaching you how to use the County's NEOgov application system to apply for a job and/or be informed about future job openingsLearn about the County of Mendocino's application/hiring process through an onsite WorkshopInformation about becoming an intern for the County of MendocinoOpportunity to meet Department staff and learn about each department\, through breakout sessions\, highlighting the diversity of employment opportunities offered through the County of MendocinoThe fair willÂ include on-site community education and training partners.Information on becoming a member of boards and commissionsAnd more...Â DIRECTIONS From San Francisco: US 101 North\; Exit 551 North State Street\; Turn left onto\nNorth State Street\; Continue for 0.9 miles\; Turn right onto Low Gap Road\; \nProceed straight through the 4 way stop sign intersection\; Your destination will \nbe on your left. (117 miles)\n\n\nFrom Sacramento: I-5 North toward Woodland\; Take CA-20 exit 578 toward \nClear Lake/Colusa\; US 101 South toward Ukiah\; Exit 551 North State Street\; \nTurn right onto North State Street\; Continue for 0.9 miles\; Turn right onto Low \nGap Road\; Proceed straight through the 4 way stop sign intersection\; Your \ndestination will be on your left. (145 miles)\n\n\nFrom Medford: I-5 South toward Ashland\; Take CA-20 exit 578 toward \nColusa/Clear Lake\; US 101 South toward Ukiah\; Exit 551 North State Street\; \nTurn right onto North State Street\; Continue for 0.9 miles\; Turn right onto Low \nGap Road\;Â  Proceed straight through the 4 way stop sign intersection\; Your \ndestination will be on your left. (334 miles)\n\n\nFrom Los Angeles: I-5 North toward Sacramento\; Take I-580 West toward \nTracy/San Francisco\; Then US 101 North\; Exit 551 North State Street\; \nTurn left onto North State Street\; Continue for 0.9 miles\; Turn right onto Low \nGap Road\; Proceed straight through the 4 way stop sign intersection\; Your \ndestination will be on your left. (492 miles)Â Â Â
X-ALT-DESC;FMTTYPE=text/html:<h3>What is a Job Fair?</h3><p>Job Fairs are a great first step in the hiring process and will provide attendees with the opportunity to apply for current job openings\, explore the diverse selection of careers within the County of Mendocino and interact with County representatives from all departments and offices.Â  The fair will include breakout sessions highlighting individual county departments/offices\, hands on assistance about the web-based application process and opportunities to apply online for current openings.Â  Attendees can also take advantage of on-site community education information\, training partners\, information on becoming an intern or being a member of one of the boards and commissions.Â  You will be provided with information concerning the next steps of the hiring process when you attend one of the various workshops available.Â  We hope to see you there!</p><p>Â </p><h3>What to Expect:</h3><ul><li>Free admission and parking</li><li>Onsite Food Vendors</li><li>Apply for a job opening onsite at the Fair</li><li>Attend a live workshop tutorial teaching you how to use the County's NEOgov application system to apply for a job and/or be informed about future job openings</li><li>Learn about the County of Mendocino's application/hiring process through an onsite Workshop</li><li>Information about becoming an intern for the County of Mendocino</li><li>Opportunity to meet Department staff and learn about each department\, through breakout sessions\, highlighting the diversity of employment opportunities offered through the County of Mendocino</li><li>The fair willÂ include on-site community education and training partners.</li><li>Information on becoming a member of boards and commissions</li><li>And more...</li></ul><p>Â </p><h2><strong>DIRECTIONS</strong></h2><h2><strong> </strong></h2><p><strong>From San Francisco</strong><span>: US 101 North\; Exit 551 North State Street\; Turn left onto</span><br /><span>North State Street\; Continue for 0.9 miles\; Turn right onto Low Gap Road\; </span><br /><span>Proceed straight through the 4 way stop sign intersection\; Your destination will </span><br /><span>be on your left. </span><em>(117 miles)</em><br /><br /><br /><strong>From Sacramento</strong><span>: I-5 North toward Woodland\; Take CA-20 exit 578 toward </span><br /><span>Clear Lake/Colusa\; US 101 South toward Ukiah\; Exit 551 North State Street\; </span><br /><span>Turn right onto North State Street\; Continue for 0.9 miles\; Turn right onto Low </span><br /><span>Gap Road\; Proceed straight through the 4 way stop sign intersection\; Your </span><br /><span>destination will be on your left. </span><em>(145 miles)</em><br /><br /><br /><strong>From Medford</strong><span>: I-5 South toward Ashland\; Take CA-20 exit 578 toward </span><br /><span>Colusa/Clear Lake\; US 101 South toward Ukiah\; Exit 551 North State Street\; </span><br /><span>Turn right onto North State Street\; Continue for 0.9 miles\; Turn right onto Low </span><br /><span>Gap Road\;Â  Proceed straight through the 4 way stop sign intersection\; Your </span><br /><span>destination will be on your left. </span><em>(334 miles)</em><br /><br /><br /><strong>From Los Angeles</strong><span>: I-5 North toward Sacramento\; Take I-580 West toward </span><br /><span>Tracy/San Francisco\; Then US 101 North\; Exit 551 North State Street\; </span><br /><span>Turn left onto North State Street\; Continue for 0.9 miles\; Turn right onto Low </span><br /><span>Gap Road\; Proceed straight through the 4 way stop sign intersection\; Your </span><br /><span>destination will be on your left. </span><em>(492 miles)</em></p><p>Â </p><p>Â </p><p>Â </p>
LOCATION:Mendocino County Administration Building Lobby Ukiah
UID:e.2883.947
SEQUENCE:3
DTSTAMP:20260424T225411Z
URL:http://mendocinocoast.smartcms.site/events/details/county-of-mendocino-job-fair-06-03-2016-947
END:VEVENT

END:VCALENDAR
