BEGIN:VCALENDAR
VERSION:2.0
PRODID:-//ChamberMaster//Event Calendar 2.0//EN
METHOD:PUBLISH
X-PUBLISHED-TTL:P3D
REFRESH-INTERVAL:P3D
CALSCALE:GREGORIAN
BEGIN:VEVENT
DTSTART:20170701T010000Z
DTEND:20170701T050000Z
X-MICROSOFT-CDO-ALLDAYEVENT:FALSE
SUMMARY:Country Western Dance!
DESCRIPTION:Put on your boots and bring the whole family and dance to the Rusticators Band!  Enjoy your favorite Country Western music - concessions provided by the Native Daughters of the Golden West and bar provided by the Fort Bragg-Mendocino Lions!
X-ALT-DESC;FMTTYPE=text/html:<span style="font-family: Verdana\, Arial\; font-size: 11px\;">Put on your boots and bring the whole family and dance to the Rusticators Band! &nbsp\;Enjoy your favorite Country Western music - concessions provided by the Native Daughters of the Golden West and bar provided by the Fort Bragg-Mendocino Lions!</span>
LOCATION:Located in the beautiful Masonic Center - 428 N. Main St.\, Fort Bragg
UID:e.2883.1262
SEQUENCE:3
DTSTAMP:20260424T024629Z
URL:http://mendocinocoast.smartcms.site/events/details/country-western-dance-1262
END:VEVENT

END:VCALENDAR
