BEGIN:VCALENDAR
VERSION:2.0
PRODID:-//ChamberMaster//Event Calendar 2.0//EN
METHOD:PUBLISH
X-PUBLISHED-TTL:P3D
REFRESH-INTERVAL:P3D
CALSCALE:GREGORIAN
BEGIN:VEVENT
DTSTART;VALUE=DATE:20170519
DTEND;VALUE=DATE:20170520
TRANSP:TRANSPARENT
X-MICROSOFT-CDO-ALLDAYEVENT:TRUE
SUMMARY:Country Western Dance!
DESCRIPTION:Put on your boots and bring the whole family and dance to the Rusticators Band!   Enjoy your favorite Country Western music - concessions provided by the Native Daughters of the Golden West and bar provided by the Fort Bragg-Mendocino Lions!\n\nLocated in the beautiful Masonic Center - 428 North Main Street\, Fort Bragg\n\n6 PM - 10 PM\n\nAdults:   $15    Couples: $25   Youth (15 & under): $10\n\nTickets available at Harvest Market/Boatyard or call 707-357-1889.\n\nHosted by Cinders Productions
X-ALT-DESC;FMTTYPE=text/html:<p>Put on your boots and bring the whole family and dance to the Rusticators Band! &Acirc\;&nbsp\;Enjoy your favorite Country Western music - concessions provided by the Native Daughters of the Golden West and bar provided by the Fort Bragg-Mendocino Lions!</p>\n\n<p>Located in the beautiful Masonic Center - 428 North Main Street\, Fort Bragg</p>\n\n<p>6 PM - 10 PM</p>\n\n<p>Adults: &Acirc\;&nbsp\;$15 &Acirc\;&nbsp\; Couples: $25 &Acirc\;&nbsp\;Youth (15 &amp\; under): $10</p>\n\n<p>Tickets available at Harvest Market/Boatyard or call 707-357-1889.</p>\n\n<p>Hosted by Cinders Productions</p>\n
LOCATION:MASONIC LODGE FORT BRAGG
UID:e.2883.1206
SEQUENCE:3
DTSTAMP:20260424T044518Z
URL:http://mendocinocoast.smartcms.site/events/details/country-western-dance-05-19-2017-1206
END:VEVENT

END:VCALENDAR
