BEGIN:VCALENDAR
VERSION:2.0
PRODID:-//ChamberMaster//Event Calendar 2.0//EN
METHOD:PUBLISH
X-PUBLISHED-TTL:P3D
REFRESH-INTERVAL:P3D
CALSCALE:GREGORIAN
BEGIN:VEVENT
DTSTART:20170813T210000Z
DTEND:20170814T000000Z
X-MICROSOFT-CDO-ALLDAYEVENT:FALSE
SUMMARY:Conversations with Paul Bunyans
DESCRIPTION:"Conversations with Paul Bunyans." As part of its 125th anniversary celebration\, the Guest House Museum puts the spotlight on Paul Bunyan Days. Intermingling past and present\, Norm Shandel and Mike Stephens will sit side-by-side sharing anecdotes about stepping into the role of the famous lumberjack. They will also answer questions from the audience. August 13\, 2:00\, Guest House Museum\, 343 N. Main St.\, Fort Bragg. Free.
X-ALT-DESC;FMTTYPE=text/html:<div style="text-align:start">&ldquo\;Conversations with Paul Bunyans.&rdquo\; As part of its 125<sup>th</sup> anniversary celebration\, the Guest House Museum puts the spotlight on Paul Bunyan Days. Intermingling past and present\, Norm Shandel and Mike Stephens will sit side-by-side sharing anecdotes about stepping into the role of the famous lumberjack. They will also answer questions from the audience. August 13\, 2:00\, Guest House Museum\, 343 N. Main St.\, Fort Bragg. Free.</div>\n\n<div style="text-align:start">&nbsp\;</div>\n
LOCATION:Guest Huse Museum 343 N. main St. Fort Bragg
UID:e.2883.3773
SEQUENCE:3
DTSTAMP:20260423T232510Z
URL:http://mendocinocoast.smartcms.site/events/details/conversations-with-paul-bunyans-08-13-2017-3773
END:VEVENT

END:VCALENDAR
