BEGIN:VCALENDAR
VERSION:2.0
PRODID:-//ChamberMaster//Event Calendar 2.0//EN
METHOD:PUBLISH
X-PUBLISHED-TTL:P3D
REFRESH-INTERVAL:P3D
CALSCALE:GREGORIAN
BEGIN:VEVENT
DTSTART:20191016T180000Z
DTEND:20191017T000000Z
X-MICROSOFT-CDO-ALLDAYEVENT:FALSE
SUMMARY:Conversations - Acrylic and Mixed Media Paintings by Arlene Reiss
DESCRIPTION:In a show entitled "Conversations\," Arlene Reiss explores her intuitive process of art making where each piece calls forth a different dialogue.  She embarks with no preplan nor set ideas. "I try to stay present within myself as well as with the work as it emerges.  This involves following where my brush wants to go\, sensing what color asks to be used\, how much territory wants to be covered\, what tool I am drawn to make\, what kind of strokes or marks\, and which collage pieces are wanted. Much of what happens are experiments which I then either paint over or explore further. My years of experience allows me to have a sense of when the conversation is complete."
X-ALT-DESC;FMTTYPE=text/html:<span style="font-family:helvetica"><span style="font-size:14pt">In a show entitled &ldquo\;Conversations\,&rdquo\; Arlene Reiss explores her intuitive process of art making where each piece calls forth a different dialogue.&nbsp\;&nbsp\;She embarks with no preplan nor set ideas. &ldquo\;I try to stay present within myself as well as with the work as it emerges.&nbsp\;&nbsp\;This involves following where my brush wants to go\, sensing what color asks to be used\, how much territory wants to be covered\, what tool I am drawn to make\, what kind of strokes or marks\, and which collage pieces are wanted. Much of what happens are experiments which I then either paint over or explore further. My years of experience allows me to have a sense of when the conversation is complete.&rdquo\;&nbsp\;</span></span>
LOCATION:Partners Gallery 335 N. Franklin St Fort Bragg\, CA 95437
UID:e.2883.12018
SEQUENCE:3
DTSTAMP:20260422T024936Z
URL:http://mendocinocoast.smartcms.site/events/details/conversations-acrylic-and-mixed-media-paintings-by-arlene-reiss-10-16-2019-12018
END:VEVENT

END:VCALENDAR
