BEGIN:VCALENDAR
VERSION:2.0
PRODID:-//ChamberMaster//Event Calendar 2.0//EN
METHOD:PUBLISH
X-PUBLISHED-TTL:P3D
REFRESH-INTERVAL:P3D
CALSCALE:GREGORIAN
BEGIN:VEVENT
DTSTART:20180512T190000Z
DTEND:20180512T230000Z
X-MICROSOFT-CDO-ALLDAYEVENT:FALSE
SUMMARY:Community Center of Mendocino Spring BBQ and Open House with the Boonville Big Band
DESCRIPTION:Starting at noon\, enjoy food\, fun and friendship\, in and around our town's beautiful 1930s grammar school building\, home of the Community Center of Mendocino and the beloved After-School Enrichment Program. Hear local treasures Bob Ayres and the Boonville Big Band in an afternoon concert on the lawn that's sure to bring out the local Swing Dance community. Share home-grilled savory treats from Roundman's Smokehouse (or a vegan alternative). Take in a Children's Chorus performance. Watch demos of children's and adult classes. Make a keepsake in the children's crafts area. That evening at 8\, enjoy an indoor concert by the renowned Todalo Shakers\, playing vintage jug-band party blues\, stomps and rags. Afternoon events are free\; tickets for the evening concert are available at ccmendo.org\, Harvest Fort Bragg or Out of This World in Mendocino.
X-ALT-DESC;FMTTYPE=text/html:Starting at noon\, enjoy food\, fun and friendship\, in and around our town&rsquo\;s beautiful 1930s grammar school building\, home of the Community Center of Mendocino and the beloved After-School Enrichment Program. Hear local treasures Bob Ayres and the Boonville Big Band in an afternoon concert on the lawn that&rsquo\;s sure to bring out the local Swing Dance community. Share home-grilled savory treats from Roundman&rsquo\;s Smokehouse (or a vegan alternative). Take in a Children&rsquo\;s Chorus performance. Watch demos of children&rsquo\;s and adult classes. Make a keepsake in the children&rsquo\;s crafts area. That evening at 8\, enjoy an indoor concert by the renowned Todalo Shakers\, playing vintage jug-band party blues\, stomps and rags. Afternoon events are free\; tickets for the evening concert are available at ccmendo.org\, Harvest Fort Bragg or Out of This World in Mendocino.
LOCATION:Community Center of Mendocino\, 998 School St.\, Mendocino CA 95460
UID:e.2883.8074
SEQUENCE:3
DTSTAMP:20260423T074011Z
URL:http://mendocinocoast.smartcms.site/events/details/community-center-of-mendocino-spring-bbq-and-open-house-with-the-boonville-big-band-8074
END:VEVENT

END:VCALENDAR
