BEGIN:VCALENDAR
VERSION:2.0
PRODID:-//ChamberMaster//Event Calendar 2.0//EN
METHOD:PUBLISH
X-PUBLISHED-TTL:P3D
REFRESH-INTERVAL:P3D
CALSCALE:GREGORIAN
BEGIN:VEVENT
DTSTART:20160512T190100Z
DTEND:20160512T230000Z
X-MICROSOFT-CDO-ALLDAYEVENT:FALSE
SUMMARY:Coastal Trail Celebration
DESCRIPTION:You're invited! Join us on Fort Bragg's new South Trail for food\, fun\, entertainment\, and more. See the one-of-a-kind blue whale skeleton. This is a city celebration that you wouldnt want to miss!
X-ALT-DESC;FMTTYPE=text/html:<p>You're invited! Join us on Fort Bragg's new South Trail for food\, fun\, entertainment\, and more. See the one-of-a-kind blue whale skeleton. This is a city celebration that you wouldnt want to miss!</p>
LOCATION:South Trail on Cypress St. Fort Bragg
UID:e.2883.926
SEQUENCE:3
DTSTAMP:20260425T003621Z
URL:http://mendocinocoast.smartcms.site/events/details/coastal-trail-celebration-05-12-2016-926
END:VEVENT

END:VCALENDAR
