BEGIN:VCALENDAR
VERSION:2.0
PRODID:-//ChamberMaster//Event Calendar 2.0//EN
METHOD:PUBLISH
X-PUBLISHED-TTL:P3D
REFRESH-INTERVAL:P3D
CALSCALE:GREGORIAN
BEGIN:VEVENT
DTSTART:20171027T013000Z
DTEND:20171027T033000Z
X-MICROSOFT-CDO-ALLDAYEVENT:FALSE
SUMMARY:Coastal Storytellers Presents: Ghosts
DESCRIPTION:Coastal Storytellers is a monthly event that features local storytellers. October will bring out stories inspired by the theme of "ghosts." All stories are autobiographical and told by local community members. Beer\, wine\, and refreshments will be available for purchase. Proceeds benefit the Community Center of Mendocino and their After School Enrichment Program.
X-ALT-DESC;FMTTYPE=text/html:Coastal Storytellers is a monthly event that features local storytellers. October will bring out stories inspired by the theme of &quot\;ghosts.&quot\; All stories are autobiographical and told by local community members. Beer\, wine\, and refreshments will be available for purchase. Proceeds benefit the Community Center of Mendocino and their After School Enrichment Program.
LOCATION:Community Center of Mendocino 998 School St
UID:e.2883.4443
SEQUENCE:3
DTSTAMP:20260423T201917Z
URL:http://mendocinocoast.smartcms.site/events/details/coastal-storytellers-presents-ghosts-4443
END:VEVENT

END:VCALENDAR
