BEGIN:VCALENDAR
VERSION:2.0
PRODID:-//ChamberMaster//Event Calendar 2.0//EN
METHOD:PUBLISH
X-PUBLISHED-TTL:P3D
REFRESH-INTERVAL:P3D
CALSCALE:GREGORIAN
BEGIN:VEVENT
DTSTART:20181130T023000Z
DTEND:20181130T043000Z
X-MICROSOFT-CDO-ALLDAYEVENT:FALSE
SUMMARY:Coastal Storytellers Presents: "Expect the Unexpected"
DESCRIPTION:Coastal Storytellers is set to return on Thursday\, November 29th from 6:30-8:30pm at the Community Center of Mendocino. The theme will be "Expect the Unexpected\," true tales of memorable surprises in life. Come hear local storytellers\, authors\, and community members share autobiographical pieces on the theme. If you are interested in sharing a piece at this event please send an email to nlaumbccm@gmail.com.
X-ALT-DESC;FMTTYPE=text/html:Coastal Storytellers is set to return on Thursday\, November 29th from 6:30-8:30pm at the Community Center of Mendocino. The theme will be &quot\;Expect the Unexpected\,&quot\; true tales of memorable surprises in life. Come hear local storytellers\, authors\, and community members share autobiographical pieces on the theme. If you are interested in sharing a piece at this event please send an email to nlaumbccm@gmail.com.
LOCATION:Community Center of Mendocino
UID:e.2883.10336
SEQUENCE:3
DTSTAMP:20260422T210808Z
URL:http://mendocinocoast.smartcms.site/events/details/coastal-storytellers-presents-expect-the-unexpected-10336
END:VEVENT

END:VCALENDAR
