BEGIN:VCALENDAR
VERSION:2.0
PRODID:-//ChamberMaster//Event Calendar 2.0//EN
METHOD:PUBLISH
X-PUBLISHED-TTL:P3D
REFRESH-INTERVAL:P3D
CALSCALE:GREGORIAN
BEGIN:VEVENT
DTSTART:20180720T010000Z
DTEND:20180720T023000Z
X-MICROSOFT-CDO-ALLDAYEVENT:FALSE
SUMMARY:Club de la Lengua
DESCRIPTION:Meet new friends\, practice your Spanish and help others learn English. Conoce nuevos amigos\, practica tu espa ol y ayuda a otros a aprender ingl s.
X-ALT-DESC;FMTTYPE=text/html:Meet new friends\, practice your Spanish and help others learn English. Conoce nuevos amigos\, practica tu espa&ntilde\;ol y ayuda a otros a aprender ingl&eacute\;s.
LOCATION:Fort Bragg Library 499 Laurel St Fort Bragg\, CA 95437
UID:e.2883.9084
SEQUENCE:3
DTSTAMP:20260423T040656Z
URL:http://mendocinocoast.smartcms.site/events/details/club-de-la-lengua-9084
END:VEVENT

END:VCALENDAR
