BEGIN:VCALENDAR
VERSION:2.0
PRODID:-//ChamberMaster//Event Calendar 2.0//EN
METHOD:PUBLISH
X-PUBLISHED-TTL:P3D
REFRESH-INTERVAL:P3D
CALSCALE:GREGORIAN
BEGIN:VEVENT
DTSTART:20180817T010000Z
DTEND:20180817T023000Z
X-MICROSOFT-CDO-ALLDAYEVENT:FALSE
SUMMARY:Club de la Lengua
DESCRIPTION:Meet new friends\, practice your Spanish and help others learn English. Conoce nuevos amigos\, practica tu ingl s y ayuda a otros a aprender espa ol.
X-ALT-DESC;FMTTYPE=text/html:Meet new friends\, practice your Spanish and help others learn English. Conoce nuevos amigos\, practica tu ingl&eacute\;s y ayuda a otros a aprender espa&ntilde\;ol.
LOCATION:Fort Bragg Library 499 E Laurel St Fort Bragg
UID:e.2883.9145
SEQUENCE:3
DTSTAMP:20260423T022932Z
URL:http://mendocinocoast.smartcms.site/events/details/club-de-la-lengua-08-16-2018-9145
END:VEVENT

END:VCALENDAR
