BEGIN:VCALENDAR
VERSION:2.0
PRODID:-//ChamberMaster//Event Calendar 2.0//EN
METHOD:PUBLISH
X-PUBLISHED-TTL:P3D
REFRESH-INTERVAL:P3D
CALSCALE:GREGORIAN
BEGIN:VEVENT
DTSTART;VALUE=DATE:20171027
DTEND;VALUE=DATE:20171030
TRANSP:TRANSPARENT
X-MICROSOFT-CDO-ALLDAYEVENT:TRUE
SUMMARY:Cinema in the Vineyards
DESCRIPTION:Celebrate the harvest in Anderson Valley with Cinema in the Vineyards\, October 27-29\, 2017\, presented by the Mendocino Film Festival. Enjoy Films that Evoke the Senses as the Cinema in the Vineyard program pairs stories of food\, agriculture\, and wine from around the world with special events highlighting the best of Anderson Valley.\n\n \n\nFestivities commence on Friday\, Oct. 27\, with an opening reception held in the charming Rose Garden at the Madrones. The reception will feature Anderson Valley wineries with farm fresh bites to pair.
X-ALT-DESC;FMTTYPE=text/html:<p><span style="font-size:14px"><span style="background-color:transparent\; color:rgb(0\, 0\, 0)\; font-family:times new roman">Celebrate the harvest in Anderson Valley with </span><strong>Cinema in the Vineyards\, October 27-29\, 2017</strong><span style="background-color:transparent\; color:rgb(0\, 0\, 0)\; font-family:times new roman">\, presented by the Mendocino Film Festival. Enjoy </span><em>Films that Evoke the Senses</em><span style="background-color:transparent\; color:rgb(0\, 0\, 0)\; font-family:times new roman"> as the Cinema in the Vineyard program pairs stories of food\, agriculture\, and wine from around the world with special events highlighting the best of Anderson Valley.</span></span><br />\n&nbsp\;</p>\n\n<p><span style="font-size:14px"><span style="background-color:transparent\; color:rgb(0\, 0\, 0)\; font-family:times new roman">Festivities commence on Friday\, Oct. 27\, with an opening reception held in the charming Rose Garden at the Madrones. The reception will feature Anderson Valley wineries with farm fresh bites to pair. </span></span></p>\n&nbsp\;\n\n<p>&nbsp\;</p>\n\n<div>&nbsp\;</div>\n
LOCATION:Live Oak Building\, 14251 Hwy. 128\, Boonville\, CA 95415
UID:e.2883.4441
SEQUENCE:3
DTSTAMP:20260423T201245Z
URL:http://mendocinocoast.smartcms.site/events/details/cinema-in-the-vineyards-4441
END:VEVENT

END:VCALENDAR
