BEGIN:VCALENDAR
VERSION:2.0
PRODID:-//ChamberMaster//Event Calendar 2.0//EN
METHOD:PUBLISH
X-PUBLISHED-TTL:P3D
REFRESH-INTERVAL:P3D
CALSCALE:GREGORIAN
BEGIN:VEVENT
DTSTART:20170117T194500Z
DTEND:20170118T033000Z
X-MICROSOFT-CDO-ALLDAYEVENT:FALSE
SUMMARY:Chinese New Year Parade
DESCRIPTION:The Temple of Kwan Tai\, Mendocino is a non profit organization that is sponsoring the following\; Come and celebrate the Chinese New Year. There will be a children's Chinese New Year Parade on 2/16/17 in Mendocino (weather permitting). The parade will start at 10:45am.Â The Temple of Kwan Tai will be holding their annual Fundraiser\, Chinese New Year's banquet and silent auction on 2/18/17 at 6:30 pm at Crown Hall in Mendocino. Silent Auction items can be views Sat. from 11am-6:30pm. Seating is limited. Call for tickets at 937-5123
X-ALT-DESC;FMTTYPE=text/html:<p>The Temple of Kwan Tai\, Mendocino is a non profit organization that is sponsoring the following\; Come and celebrate the Chinese New Year. There will be a children's Chinese New Year Parade on 2/16/17 in Mendocino (weather permitting). The parade will start at 10:45am.</p><p>Â </p><p>The Temple of Kwan Tai will be holding their annual Fundraiser\, Chinese New Year's banquet and silent auction on 2/18/17 at 6:30 pm at Crown Hall in Mendocino. Silent Auction items can be views Sat. from 11am-6:30pm. Seating is limited. Call for tickets at 937-5123</p>
LOCATION:Crown Hall Mendocino
UID:e.2883.1091
SEQUENCE:3
DTSTAMP:20260424T110040Z
URL:http://mendocinocoast.smartcms.site/events/details/chinese-new-year-parade-01-17-2017-1091
END:VEVENT

END:VCALENDAR
