BEGIN:VCALENDAR
VERSION:2.0
PRODID:-//ChamberMaster//Event Calendar 2.0//EN
METHOD:PUBLISH
X-PUBLISHED-TTL:P3D
REFRESH-INTERVAL:P3D
CALSCALE:GREGORIAN
BEGIN:VEVENT
DTSTART:20190623T210000Z
DTEND:20190624T000000Z
X-MICROSOFT-CDO-ALLDAYEVENT:FALSE
SUMMARY:Chinese Exclusion Law
DESCRIPTION:Come and see the first showing on the North Coast the PBS documentary on the history of the Chinese Exclusion Act of 1882. The Kelley House Museum will be showing this extraordinary PBS documentary on the Chinese Exclusion Act of 1882.
X-ALT-DESC;FMTTYPE=text/html:Come and see the first showing on the North Coast the PBS documentary on the history of the Chinese Exclusion Act of 1882. The Kelley House Museum will be showing this extraordinary PBS documentary on the Chinese Exclusion Act of 1882.
LOCATION:Kelley House\, 45007 Albion Street\, Mendocino
UID:e.2883.11452
SEQUENCE:3
DTSTAMP:20260422T094022Z
URL:http://mendocinocoast.smartcms.site/events/details/chinese-exclusion-law-11452
END:VEVENT

END:VCALENDAR
