BEGIN:VCALENDAR
VERSION:2.0
PRODID:-//ChamberMaster//Event Calendar 2.0//EN
METHOD:PUBLISH
X-PUBLISHED-TTL:P3D
REFRESH-INTERVAL:P3D
CALSCALE:GREGORIAN
BEGIN:VEVENT
DTSTART:20190215T184500Z
DTEND:20190215T200000Z
X-MICROSOFT-CDO-ALLDAYEVENT:FALSE
SUMMARY:Chinese Children's Parade
DESCRIPTION:Annual Chinese New Years Parade The children will start at the corner of Ukiah and Lansing and march down Main street and than march to the Temple of Kwan Tai.
X-ALT-DESC;FMTTYPE=text/html:Annual Chinese New Years Parade The children will start at the corner of Ukiah and Lansing and march down Main street and than march to the Temple of Kwan Tai.
LOCATION:In the town of Mendocino Starts at the corner of Lansing and Ukiah Street.
UID:e.2883.10389
SEQUENCE:3
DTSTAMP:20260422T161807Z
URL:http://mendocinocoast.smartcms.site/events/details/chinese-children-s-parade-10389
END:VEVENT

END:VCALENDAR
