BEGIN:VCALENDAR
VERSION:2.0
PRODID:-//ChamberMaster//Event Calendar 2.0//EN
METHOD:PUBLISH
X-PUBLISHED-TTL:P3D
REFRESH-INTERVAL:P3D
CALSCALE:GREGORIAN
BEGIN:VEVENT
DTSTART:20180215T184500Z
DTEND:20180215T193000Z
X-MICROSOFT-CDO-ALLDAYEVENT:FALSE
SUMMARY:Children's Chinese New Year Parade
DESCRIPTION:Hundreds of elementary school students from all over the Mendocino coast will be marching in a parade around the village of Mendocino to celebrate the Chinese New Year!\n\n\n\nWe would love for community members to come out and greet us as we celebrate the New Year!
X-ALT-DESC;FMTTYPE=text/html:<span style="color: rgb(0\, 0\, 0)\; font-family: Calibri\, Helvetica\, sans-serif\; font-size: 16px\;">Hundreds of elementary school students from all over the Mendocino coast will be marching in a parade around the village of Mendocino to celebrate the Chinese New Year!<br />\n<br />\nWe would love for community members to come out and greet us as we celebrate the New Year!</span><br />\n<br />\n&nbsp\;
LOCATION:Mendocino Village
UID:e.2883.5525
SEQUENCE:3
DTSTAMP:20260423T122102Z
URL:http://mendocinocoast.smartcms.site/events/details/children-s-chinese-new-year-parade-5525
END:VEVENT

END:VCALENDAR
