BEGIN:VCALENDAR
VERSION:2.0
PRODID:-//ChamberMaster//Event Calendar 2.0//EN
METHOD:PUBLISH
X-PUBLISHED-TTL:P3D
REFRESH-INTERVAL:P3D
CALSCALE:GREGORIAN
BEGIN:VEVENT
DTSTART;VALUE=DATE:20170313
DTEND;VALUE=DATE:20170314
TRANSP:TRANSPARENT
X-MICROSOFT-CDO-ALLDAYEVENT:TRUE
SUMMARY:Chicago Auditions!
DESCRIPTION:Directed by: David Strock\nMusic Director: Marie Claire Dizin\nChoreographer: Tara Ford\nAssistant Choreographer: Melanie KatzWhere: Eagles Hall - 210 N Corry\, Fort Bragg\, CA\nWhen: Saturday\, April 15 - 11:00 am\nCallbacks (if necessary) will be later that same dayCall: Please arrive at 11:00 am. There will be no scheduled audition times.Auditions will consist of singing\, reading from the script and dancing. Please prepare a song that shows off your vocal range. Pianist will be provided.Â Everyone will be asked to dance and should bring character shoes for the dance portion of the audition.Â All parts are open and everyone auditioning will be considered.If you cannot attend auditions or are away at college\, please send an email to the director atÂ darnfinedave@gmail.com to arrange a different date or video audition.Show dates: Performances will run July 27 - August 13. Thur\, Friday\, Saturday at 7:30 and Sundays at 3:00 (must be available for all performance dates)Synopsis: Chicago is a dazzling and satirical look at fame\, justice\, and the media machine. Set in 1920s Chicago and based on real-life murders and trials\, Chicago follows Roxie Hart\, a wannabe vaudevillian star who murders her lover and is arrested. In the Cook County Jail\, Roxie meets her hero\, the famed double-murderess and nightclub performer Velma Kelly. When both acquire the same lawyer\, the greedy and lustful superstar\, Billy Flynn\, tensions come to a head as they vie for the spotlight-- though instead of onstage\, theyâ€™re mugging for the flashbulb of the newspaper reporters. With catchy\, sexy music and timeless lyrics by John Kander and Fred Ebb\, and a funny\, intelligent\, and utterly engaging book by Kander and Bob Fosse\, Chicago is a musical spectacular that is as addictive as gossip rags and as unforgettable as any trial of the century.
X-ALT-DESC;FMTTYPE=text/html:<p><strong>Directed by: David Strock<br /></strong><strong>Music Director: Marie Claire Dizin<br /></strong><strong>Choreographer: Tara Ford<br /></strong><strong>Assistant Choreographer: Melanie Katz</strong></p><p><strong>Where: </strong>Eagles Hall - 210 N Corry\, Fort Bragg\, CA<br /><strong>When:</strong> Saturday\, April 15 - 11:00 am<br />Callbacks (if necessary) will be later that same day</p><p><strong>Call:</strong> Please arrive at 11:00 am. There will be no scheduled audition times.</p><p>Auditions will consist of singing\, reading from the script and dancing. Please prepare a song that shows off your vocal range. Pianist will be provided.Â Everyone will be asked to dance and should bring character shoes for the dance portion of the audition.Â All parts are open and everyone auditioning will be considered.</p><p><strong>If you cannot attend auditions</strong> or are away at college\, please send an email to the director atÂ <strong>darnfinedave@gmail.com</strong> to arrange a different date or video audition.</p><p><strong>Show dates:</strong> Performances will run July 27 - August 13. Thur\, Friday\, Saturday at 7:30 and Sundays at 3:00 (must be available for all performance dates)</p><p><strong>Synopsis: </strong>Chicago is a dazzling and satirical look at fame\, justice\, and the media machine. Set in 1920s Chicago and based on real-life murders and trials\, Chicago follows Roxie Hart\, a wannabe vaudevillian star who murders her lover and is arrested. In the Cook County Jail\, Roxie meets her hero\, the famed double-murderess and nightclub performer Velma Kelly. When both acquire the same lawyer\, the greedy and lustful superstar\, Billy Flynn\, tensions come to a head as they vie for the spotlight-- though instead of onstage\, theyâ€™re mugging for the flashbulb of the newspaper reporters. With catchy\, sexy music and timeless lyrics by John Kander and Fred Ebb\, and a funny\, intelligent\, and utterly engaging book by Kander and Bob Fosse\, Chicago is a musical spectacular that is as addictive as gossip rags and as unforgettable as any trial of the century.</p>
LOCATION:Eagles Hall Theatre Fort Bragg
UID:e.2883.1156
SEQUENCE:3
DTSTAMP:20260424T075849Z
URL:http://mendocinocoast.smartcms.site/events/details/chicago-auditions-03-13-2017-1156
END:VEVENT

END:VCALENDAR
