BEGIN:VCALENDAR
VERSION:2.0
PRODID:-//ChamberMaster//Event Calendar 2.0//EN
METHOD:PUBLISH
X-PUBLISHED-TTL:P3D
REFRESH-INTERVAL:P3D
CALSCALE:GREGORIAN
BEGIN:VEVENT
DTSTART:20190120T010000Z
DTEND:20190120T060000Z
X-MICROSOFT-CDO-ALLDAYEVENT:FALSE
SUMMARY:Celebrating the New Year
DESCRIPTION:Celebrate the New Year with us at Sal's Bistro January 19\,2019. Happy Hour 5 to 6 No Host Bar & swing Dance from 7:30 to 10:00pm. Your choice of Prime Rib or Poached Salmon with Creamy Dill Sauce.Both Entrees served with Baked Potato & Dinner Salad.New York Cheese Cake.A benefit dinner for Redwood Coast Seniors
X-ALT-DESC;FMTTYPE=text/html:Celebrate the New Year with us at Sal&#39\;s Bistro January 19\,2019. Happy Hour 5 to 6 No Host Bar &amp\; swing Dance from 7:30 to 10:00pm. Your choice of Prime Rib or Poached Salmon with Creamy Dill Sauce.Both Entrees served with Baked Potato &amp\; Dinner Salad.New York Cheese Cake.A benefit dinner for Redwood Coast Seniors
LOCATION:490 N Harold St Fort Bragg\,Ca
UID:e.2883.10434
SEQUENCE:3
DTSTAMP:20260422T174306Z
URL:http://mendocinocoast.smartcms.site/events/details/celebrating-the-new-year-10434
END:VEVENT

END:VCALENDAR
