BEGIN:VCALENDAR
VERSION:2.0
PRODID:-//ChamberMaster//Event Calendar 2.0//EN
METHOD:PUBLISH
X-PUBLISHED-TTL:P3D
REFRESH-INTERVAL:P3D
CALSCALE:GREGORIAN
BEGIN:VEVENT
DTSTART:20180805T190000Z
DTEND:20180806T000000Z
X-MICROSOFT-CDO-ALLDAYEVENT:FALSE
SUMMARY:Celebrating Our Coast and the Fort Bragg’s Birthday party
DESCRIPTION:
X-ALT-DESC;FMTTYPE=text/html:
LOCATION:
UID:e.2883.9103
SEQUENCE:3
DTSTAMP:20260423T023241Z
URL:http://mendocinocoast.smartcms.site/events/details/celebrating-our-coast-and-the-fort-bragg-s-birthday-party-9103
END:VEVENT

END:VCALENDAR
