BEGIN:VCALENDAR
VERSION:2.0
PRODID:-//ChamberMaster//Event Calendar 2.0//EN
METHOD:PUBLISH
X-PUBLISHED-TTL:P3D
REFRESH-INTERVAL:P3D
CALSCALE:GREGORIAN
BEGIN:VEVENT
DTSTART:20190414T010000Z
DTEND:20190414T050000Z
X-MICROSOFT-CDO-ALLDAYEVENT:FALSE
SUMMARY:Celebrate Spring Gala
DESCRIPTION:A benefit for Mendocino Ballet (a local non-profit dedicated to excellence in the dance arts) featuring delicious cuisine\, entertainment\, dancing and a short performance by Mendocino Ballet Company dancers. There will be a live and silent auction showcasing gift baskets\, services\, local wines and more! Dress up\, have fun\, and support your local ballet!
X-ALT-DESC;FMTTYPE=text/html:A benefit for Mendocino Ballet (a local non-profit dedicated to excellence in the dance arts) featuring delicious cuisine\, entertainment\, dancing and a short performance by Mendocino Ballet Company dancers. There will be a live and silent auction showcasing gift baskets\, services\, local wines and more! Dress up\, have fun\, and support your local ballet!
LOCATION:Barra of Mendocino Wines
UID:e.2883.11374
SEQUENCE:3
DTSTAMP:20260422T125120Z
URL:http://mendocinocoast.smartcms.site/events/details/celebrate-spring-gala-11374
END:VEVENT

END:VCALENDAR
